BEGIN:VCALENDAR
VERSION:2.0
PRODID:-//Amarelius - ECPv6.8.0//NONSGML v1.0//EN
CALSCALE:GREGORIAN
METHOD:PUBLISH
X-ORIGINAL-URL:https://www.amarelius.fr
X-WR-CALDESC:Évènements pour Amarelius
REFRESH-INTERVAL;VALUE=DURATION:PT1H
X-Robots-Tag:noindex
X-PUBLISHED-TTL:PT1H
BEGIN:VTIMEZONE
TZID:Europe/Paris
BEGIN:DAYLIGHT
TZOFFSETFROM:+0100
TZOFFSETTO:+0200
TZNAME:CEST
DTSTART:20240331T010000
END:DAYLIGHT
BEGIN:STANDARD
TZOFFSETFROM:+0200
TZOFFSETTO:+0100
TZNAME:CET
DTSTART:20241027T010000
END:STANDARD
END:VTIMEZONE
BEGIN:VEVENT
DTSTART;TZID=Europe/Paris:20241130T110000
DTEND;TZID=Europe/Paris:20241130T115500
DTSTAMP:20260425T145434
CREATED:20241031T083832Z
LAST-MODIFIED:20241031T083832Z
UID:1329-1732964400-1732967700@www.amarelius.fr
SUMMARY:Chocottes et Chamallows
DESCRIPTION:Ce soir c’est la pleine lune et sur le campement des louveteaux garous la grande veillée spéciale « chocottes » se prépare.\nPour cette grande soirée\, la cheffe Clark a tout prévu pour faire trembler les petits scouts autour du feu : chamallows grillés\, chansons\, histoires… mais c’était sans compter sur Kevin\, le jeune assistant qui n’aime pas du tout Halloween et préfère rigoler plutôt que frissonner.
URL:https://www.amarelius.fr/event/chocottes-et-chamallows-5/
LOCATION:Comédie d’Aix\, 8 avenue de la violette\, Aix-en-Provence\, 13100\, France
CATEGORIES:théâtre
END:VEVENT
BEGIN:VEVENT
DTSTART;TZID=Europe/Paris:20241123T110000
DTEND;TZID=Europe/Paris:20241123T115500
DTSTAMP:20260425T145434
CREATED:20241031T083831Z
LAST-MODIFIED:20241031T083831Z
UID:1328-1732359600-1732362900@www.amarelius.fr
SUMMARY:Chocottes et Chamallows
DESCRIPTION:Ce soir c’est la pleine lune et sur le campement des louveteaux garous la grande veillée spéciale « chocottes » se prépare.\nPour cette grande soirée\, la cheffe Clark a tout prévu pour faire trembler les petits scouts autour du feu : chamallows grillés\, chansons\, histoires… mais c’était sans compter sur Kevin\, le jeune assistant qui n’aime pas du tout Halloween et préfère rigoler plutôt que frissonner.
URL:https://www.amarelius.fr/event/chocottes-et-chamallows-4/
LOCATION:Comédie d’Aix\, 8 avenue de la violette\, Aix-en-Provence\, 13100\, France
CATEGORIES:théâtre
END:VEVENT
BEGIN:VEVENT
DTSTART;TZID=Europe/Paris:20241116T110000
DTEND;TZID=Europe/Paris:20241116T115500
DTSTAMP:20260425T145434
CREATED:20241031T083831Z
LAST-MODIFIED:20241031T083831Z
UID:1327-1731754800-1731758100@www.amarelius.fr
SUMMARY:Chocottes et Chamallows
DESCRIPTION:Ce soir c’est la pleine lune et sur le campement des louveteaux garous la grande veillée spéciale « chocottes » se prépare.\nPour cette grande soirée\, la cheffe Clark a tout prévu pour faire trembler les petits scouts autour du feu : chamallows grillés\, chansons\, histoires… mais c’était sans compter sur Kevin\, le jeune assistant qui n’aime pas du tout Halloween et préfère rigoler plutôt que frissonner.
URL:https://www.amarelius.fr/event/chocottes-et-chamallows-3/
LOCATION:Comédie d’Aix\, 8 avenue de la violette\, Aix-en-Provence\, 13100\, France
CATEGORIES:théâtre
END:VEVENT
BEGIN:VEVENT
DTSTART;TZID=Europe/Paris:20241109T110000
DTEND;TZID=Europe/Paris:20241109T120000
DTSTAMP:20260425T145434
CREATED:20241030T164034Z
LAST-MODIFIED:20241030T164034Z
UID:1301-1731150000-1731153600@www.amarelius.fr
SUMMARY:Chocottes et chamallows
DESCRIPTION:Ce soir c’est la pleine lune et sur le campement des louveteaux garous la grande veillée spéciale « chocottes » se prépare. \nPour cette grande soirée\, la cheffe Clark a tout prévu pour faire trembler les petits scouts autour du feu : chamallows grillés\, chansons\, histoires… mais c’était sans compter sur Kevin\, le jeune assistant qui n’aime pas du tout Halloween et préfère rigoler plutôt que frissonner.
URL:https://www.amarelius.fr/event/chocottes-et-chamallows/
LOCATION:Comédie d’Aix\, 8 avenue de la violette\, Aix-en-Provence\, 13100\, France
CATEGORIES:théâtre
ATTACH;FMTTYPE=image/webp:https://www.amarelius.fr/wp-content/uploads/2024/10/choc_chamallows_5.webp
END:VEVENT
END:VCALENDAR